BEGIN:VCALENDAR
VERSION:2.0
PRODID:-//Madison Books - ECPv5.16.0//NONSGML v1.0//EN
CALSCALE:GREGORIAN
METHOD:PUBLISH
X-ORIGINAL-URL:https://madisonusedbooks.com
X-WR-CALDESC:Events for Madison Books
REFRESH-INTERVAL;VALUE=DURATION:PT1H
X-Robots-Tag:noindex
X-PUBLISHED-TTL:PT1H
BEGIN:VTIMEZONE
TZID:UTC
BEGIN:STANDARD
TZOFFSETFROM:+0000
TZOFFSETTO:+0000
TZNAME:UTC
DTSTART:20210101T000000
END:STANDARD
END:VTIMEZONE
BEGIN:VEVENT
DTSTART;TZID=UTC:20210911T110000
DTEND;TZID=UTC:20210911T120000
DTSTAMP:20260421T042748
CREATED:20210818T134409Z
LAST-MODIFIED:20210818T134409Z
UID:79-1631358000-1631361600@madisonusedbooks.com
SUMMARY:StoryTime Starts!
DESCRIPTION:
URL:https://madisonusedbooks.com/event/storytime-starts/
LOCATION:Madison Used Books\, 254 SW Range Ave.\, Madison\, FL\, 32340\, United States
END:VEVENT
END:VCALENDAR