BEGIN:VCALENDAR
VERSION:2.0
PRODID:-//Madison Books - ECPv5.16.0//NONSGML v1.0//EN
CALSCALE:GREGORIAN
METHOD:PUBLISH
X-ORIGINAL-URL:https://madisonusedbooks.com
X-WR-CALDESC:Events for Madison Books
REFRESH-INTERVAL;VALUE=DURATION:PT1H
X-Robots-Tag:noindex
X-PUBLISHED-TTL:PT1H
BEGIN:VTIMEZONE
TZID:America/New_York
BEGIN:DAYLIGHT
TZOFFSETFROM:-0500
TZOFFSETTO:-0400
TZNAME:EDT
DTSTART:20220313T070000
END:DAYLIGHT
BEGIN:STANDARD
TZOFFSETFROM:-0400
TZOFFSETTO:-0500
TZNAME:EST
DTSTART:20221106T060000
END:STANDARD
END:VTIMEZONE
BEGIN:VEVENT
DTSTART;TZID=America/New_York:20220107T170000
DTEND;TZID=America/New_York:20220107T180000
DTSTAMP:20260420T202847
CREATED:20210911T200233Z
LAST-MODIFIED:20210911T200314Z
UID:85-1641574800-1641578400@madisonusedbooks.com
SUMMARY:Rose Knox and Graham Schorb - local authors
DESCRIPTION:
URL:https://madisonusedbooks.com/event/rose-knox-and-graham-schorb-local-authors/
LOCATION:Madison Used Books\, 254 SW Range Ave.\, Madison\, FL\, 32340\, United States
END:VEVENT
END:VCALENDAR