BEGIN:VCALENDAR
VERSION:2.0
PRODID:-//Madison Books - ECPv5.16.0//NONSGML v1.0//EN
CALSCALE:GREGORIAN
METHOD:PUBLISH
X-WR-CALNAME:Madison Books
X-ORIGINAL-URL:https://madisonusedbooks.com
X-WR-CALDESC:Events for Madison Books
REFRESH-INTERVAL;VALUE=DURATION:PT1H
X-Robots-Tag:noindex
X-PUBLISHED-TTL:PT1H
BEGIN:VTIMEZONE
TZID:UTC
BEGIN:STANDARD
TZOFFSETFROM:+0000
TZOFFSETTO:+0000
TZNAME:UTC
DTSTART:20220101T000000
END:STANDARD
END:VTIMEZONE
BEGIN:VEVENT
DTSTART;TZID=UTC:20220225T180000
DTEND;TZID=UTC:20220225T190000
DTSTAMP:20260420T185037
CREATED:20211020T210356Z
LAST-MODIFIED:20220215T151237Z
UID:101-1645812000-1645815600@madisonusedbooks.com
SUMMARY:Zoey Lee on her new book: Queen of Swords
DESCRIPTION:
URL:https://madisonusedbooks.com/event/zoey-lee-on-her-new-book-queen-of-swords/
LOCATION:Madison Used Books\, 254 SW Range Ave.\, Madison\, FL\, 32340\, United States
END:VEVENT
END:VCALENDAR