BEGIN:VCALENDAR
VERSION:2.0
PRODID:-//Madison Books - ECPv5.16.0//NONSGML v1.0//EN
CALSCALE:GREGORIAN
METHOD:PUBLISH
X-ORIGINAL-URL:https://madisonusedbooks.com
X-WR-CALDESC:Events for Madison Books
REFRESH-INTERVAL;VALUE=DURATION:PT1H
X-Robots-Tag:noindex
X-PUBLISHED-TTL:PT1H
BEGIN:VTIMEZONE
TZID:UTC
BEGIN:STANDARD
TZOFFSETFROM:+0000
TZOFFSETTO:+0000
TZNAME:UTC
DTSTART:20220101T000000
END:STANDARD
END:VTIMEZONE
BEGIN:VEVENT
DTSTART;TZID=UTC:20220401T170000
DTEND;TZID=UTC:20220401T180000
DTSTAMP:20260420T151417
CREATED:20211209T142930Z
LAST-MODIFIED:20211209T142930Z
UID:121-1648832400-1648836000@madisonusedbooks.com
SUMMARY:Michael Flowers
DESCRIPTION:
URL:https://madisonusedbooks.com/event/michael-flowers/
LOCATION:Madison Used Books\, 254 SW Range Ave.\, Madison\, FL\, 32340\, United States
END:VEVENT
END:VCALENDAR